BEGIN:VCALENDAR
VERSION:2.0
PRODID:-//Hammenstedt - ECPv5.14.2.1//NONSGML v1.0//EN
CALSCALE:GREGORIAN
METHOD:PUBLISH
X-WR-CALNAME:Hammenstedt
X-ORIGINAL-URL:https://hammenstedt-northeim.de
X-WR-CALDESC:Veranstaltungen für Hammenstedt
BEGIN:VTIMEZONE
TZID:Europe/Berlin
BEGIN:DAYLIGHT
TZOFFSETFROM:+0100
TZOFFSETTO:+0200
TZNAME:CEST
DTSTART:20180325T010000
END:DAYLIGHT
BEGIN:STANDARD
TZOFFSETFROM:+0200
TZOFFSETTO:+0100
TZNAME:CET
DTSTART:20181028T010000
END:STANDARD
END:VTIMEZONE
BEGIN:VEVENT
DTSTART;TZID=Europe/Berlin:20180826T110000
DTEND;TZID=Europe/Berlin:20180826T110000
DTSTAMP:20260421T153005
CREATED:20180501T125807Z
LAST-MODIFIED:20180817T070100Z
UID:371-1535281200-1535281200@hammenstedt-northeim.de
SUMMARY:Holzpartie 50 Jahre - Sch?tzenverein
DESCRIPTION:
URL:https://hammenstedt-northeim.de/event/holzpartie-50-jahre-schuetzenverein/
LOCATION:Schützenhaus Hammenstedt\, In der Lehmkuhle\, Hammenstedt\, 37154\, Deutschland
CATEGORIES:Feiern
END:VEVENT
END:VCALENDAR