BEGIN:VCALENDAR
VERSION:2.0
PRODID:-//Hammenstedt - ECPv5.14.2.1//NONSGML v1.0//EN
CALSCALE:GREGORIAN
METHOD:PUBLISH
X-WR-CALNAME:Hammenstedt
X-ORIGINAL-URL:https://hammenstedt-northeim.de
X-WR-CALDESC:Veranstaltungen für Hammenstedt
BEGIN:VTIMEZONE
TZID:Europe/Berlin
BEGIN:DAYLIGHT
TZOFFSETFROM:+0100
TZOFFSETTO:+0200
TZNAME:CEST
DTSTART:20180325T010000
END:DAYLIGHT
BEGIN:STANDARD
TZOFFSETFROM:+0200
TZOFFSETTO:+0100
TZNAME:CET
DTSTART:20181028T010000
END:STANDARD
END:VTIMEZONE
BEGIN:VEVENT
DTSTART;TZID=Europe/Berlin:20181013T173000
DTEND;TZID=Europe/Berlin:20181013T230000
DTSTAMP:20260421T135012
CREATED:20180502T065243Z
LAST-MODIFIED:20180502T065243Z
UID:437-1539451800-1539471600@hammenstedt-northeim.de
SUMMARY:K?nigsfeier Sch?tzenverein
DESCRIPTION:Treffen 17.30 Uhr Feuerwehrhaus\nBeginn der Feier 20.00 Uhr
URL:https://hammenstedt-northeim.de/event/koenigsfeier-schuetzenverein/
LOCATION:Schützenhaus Hammenstedt\, In der Lehmkuhle\, Hammenstedt\, 37154\, Deutschland
CATEGORIES:Feiern
END:VEVENT
END:VCALENDAR