BEGIN:VCALENDAR
VERSION:2.0
PRODID:-//Hammenstedt - ECPv5.14.2.1//NONSGML v1.0//EN
CALSCALE:GREGORIAN
METHOD:PUBLISH
X-WR-CALNAME:Hammenstedt
X-ORIGINAL-URL:https://hammenstedt-northeim.de
X-WR-CALDESC:Veranstaltungen für Hammenstedt
BEGIN:VTIMEZONE
TZID:Europe/Berlin
BEGIN:DAYLIGHT
TZOFFSETFROM:+0100
TZOFFSETTO:+0200
TZNAME:CEST
DTSTART:20180325T010000
END:DAYLIGHT
BEGIN:STANDARD
TZOFFSETFROM:+0200
TZOFFSETTO:+0100
TZNAME:CET
DTSTART:20181028T010000
END:STANDARD
END:VTIMEZONE
BEGIN:VEVENT
DTSTART;TZID=Europe/Berlin:20180823T190000
DTEND;TZID=Europe/Berlin:20180823T210000
DTSTAMP:20260421T150039
CREATED:20180625T080323Z
LAST-MODIFIED:20180817T065846Z
UID:750-1535050800-1535058000@hammenstedt-northeim.de
SUMMARY:Ortsratssitzung Hammenstedt
DESCRIPTION:Hier geht es zur Tagesordnung: \n2018-08-23_23_Bekanntmachung
URL:https://hammenstedt-northeim.de/event/ortsratssitzung-hammenstedt/
LOCATION:Gasthaus Zur Linde\, In der Linde 4\, Hammenstedt\, 37154\, Deutschland
CATEGORIES:Versammlungen
END:VEVENT
END:VCALENDAR